Workbook
Name ŽUPANIJA: [1]Nevidljivo!$H$5:$H$25

Sheet sys
A1: Mikro i malo poduzeće | B1: I. Zagrebačka županija | C1: ADDIKO BANK d.d. Zagreb | D1: HR05 Grad Zagreb | E1: Panonska Hrvatska (Bjelovarsko-bilogorska županija, Virovitička-podravska županija, Požeška-slavonska županija, Brodsko-posavska županija, Osječka-baranjska županija, Vukovarska-srijemska županija, Karlovačka županija, Sisačka-moslavačka županija) | F1: Prijavitelj je vlasnik | G1: nakon potpisa Ugovora | H1: 1 | J1: A1 Fotonaponska elektrana | L1: A1. Izgradnja fotonaponske elektrane
A2: Srednje poduzeće | B2: II. Krapinsko-zagorska županija | C2: AGRAM BANKA d.d. Zagreb | D2: HR02 Panonska Hrvatska | E2: Jadranska Hrvatska (Primorsko-goranska županija, Ličko-senjska županija, Zadarska županija, Šibenska-kninska županija, Splitsko-dalmatinska županija, Istarska županija, Dubrovačko-neretvanska županija) | F2: Prijavitelj je suvlasnik | G2: 46235 | H2: 1 | J2: A2 Elektrana na biomasu | L2: A2. Izgradnja elektrane na biomasu
A3: Veliko poduzeće | B3: III. Sisačko-moslavačka županija | C3: BANKA KOVANICA d.d. Varaždin | D3: HR03 Jadranska Hrvatska | E3: Sjeverna Hrvatska (Međimurska županija, Varaždinska županija, Koprivničkokr ževačka županija, Krapinsko-zagorska županija i Zagrebačka županija | F3: Prijavitelj nije vlasnik / Prijavitelj je korisnik | G3: 46266 | H3: 1 | J3: A3 Bioplinska elektrana | L3: A3. Izgradnja elektrane na bioplin
B4: IV. Karlovačka županija | C4: BKS BANK AG, Glavna podružnica Hrvatska | D4: HR06 Sjeverna Hrvatska | G4: 46296 | H4: 1
A5: {=IF(OR('Osnovni podaci'!C8:D8="Mikro i malo poduzeće",'Osnovni podaci'!C8:D8="Srednje poduzeće",'Osnovni podaci'!C8:D8="Veliko poduzeće"),1,0)} -> 0 | B5: V. Varaždinska županija | C5: CROATIA BANKA d.d. Zagreb | G5: 46327 | H5: 1 | I5: =IF('Opis Projekta'!J4="","",VLOOKUP('Opis Projekta'!J4,sys!G1:H47,2,))
B6: VI. Koprivničko-križevačka županija | C6: ERSTE &STEIERMÄRKISCHE BANK d.d. Rijeka | G6: 46357 | H6: 1 | I6: =IF('Opis Projekta'!J5="","",VLOOKUP('Opis Projekta'!J5,sys!G2:H47,2,))
B7: VII. Bjelovarsko-bilogorska županija | C7: HRVATSKA BANKA ZA OBNOVU I RAZVITAK Zagreb | D7: Integrirana FNE | E7: DA | G7: 46388 | H7: 1
A8: Odabrati vrijednost iz padajućeg izbornika | B8: VIII. Primorsko-goranska županija | C8: HRVATSKA NARODNA BANKA | D8: Neintegrirana FNE | E8: NE | G8: 46419 | H8: 1
B9: IX. Ličko-senjska županija | C9: HRVATSKA POŠTANSKA BANKA d.d. Zagreb | D9: Integrirana&neintegrirana FNE | G9: 46447 | H9: 1
B10: X. Virovitičko-podravska županija | C10: IMEX BANKA d.d. Split | G10: 46478 | H10: 1
B11: XI. Požeško-slavonska županija | C11: ISTARSKA KREDITNA BANKA UMAG d.d. Umag | G11: 46508 | H11: 1
B12: XII. Brodsko-posavska županija | C12: J&T banka d.d. Varaždin | G12: 46539 | H12: 1
B13: XIII. Zadarska županija | C13: KARLOVAČKA BANKA d.d. Karlovac | G13: 46569 | H13: 1
B14: XIV. Osječko-baranjska županija | C14: KENTBANK d.d. Zagreb | G14: 46600 | H14: 1
B15: XV. Šibensko-kninska županija | C15: NOVA HRVATSKA BANKA d.d., Zagreb | G15: 46631 | H15: 1
B16: XVI. Vukovarsko-srijemska županija | C16: OTP BANKA d.d. Split | G16: 46661 | H16: 1
B17: XVII. Splitsko-dalmatinska županija | C17: PARTNER BANKA d.d. Zagreb | G17: 46692 | H17: 1
B18: XVIII. Istarska županija | C18: PODRAVSKA BANKA d.d. Koprivnica | G18: 46722 | H18: 1
B19: XIX. Dubrovačko-neretvanska županija | C19: PRIVREDNA BANKA ZAGREB d.d. Zagreb | G19: 46753 | H19: 1
B20: XX. Međimurska županija | C20: RAIFFEISENBANK AUSTRIA d.d. Zagreb | G20: 46784 | H20: 1
B21: XXI. Grad Zagreb | C21: SAMOBORSKA BANKA d.d. Samobor | G21: 46813 | H21: 1
C22: SLATINSKA BANKA d.d. Slatina | G22: 46844 | H22: 1
C23: ZAGREBAČKA BANKA d.d. Zagreb | G23: 46874 | H23: 1
G24: 46905 | H24: 1
G25: 46935 | H25: 1
A26: L1 | G26: 46966 | H26: 1
A27: L2 | B27: Naziv Javne ustanove | C27: OIB | G27: 46997 | H27: 1
A28: L3 | B28: Nacionalni park Brijuni | G28: 47027 | H28: 1
A29: L4 | B29: Nacionalni park Kornati | G29: 47058 | H29: 1
A30: L5 | B30: Nacionalni park Krka | G30: 47088 | H30: 1
A31: L6 | B31: Nacionalni park Mljet | G31: 47119 | H31: 1
A32: L7 | B32: Nacionalni park Paklenica | G32: 47150 | H32: 1
A33: M1 | B33: Nacionalni park Plitvička jezera | G33: 47178 | H33: 1
A34: M2 | B34: Nacionalni park Risnjak | G34: 47209 | H34: 1
A35: M3 | B35: Nacionalni park Sjeverni Velebit | G35: 47239 | H35: 1
A36: N1 | B36: Park prirode Biokovo | G36: 47270 | H36: 1
A37: N2 | B37: Park prirode Dinara | G37: 47300 | H37: 1
A38: N3 | B38: Park prirode Kopački rit | G38: 47331 | H38: 1
A39: Električno plovilo | B39: Park prirode Lastovsko otočje | G39: 47362 | H39: 1
B40: Park prirode Lonjsko polje | G40: 47392 | H40: 1
B41: Park prirode Medvednica | G41: 47423 | H41: 1
B42: Park prirode Papuk | G42: 47453 | H42: 1
B43: Park prirode Telašćica | G43: 47484 | H43: 1
B44: Park prirode Učka | G44: 47515 | H44: 1
B45: Park prirode Velebit | G45: 47543 | H45: 1
B46: Park prirode Vransko jezero | G46: 47574 | H46: 1
B47: Park prirode Žumberak – Samoborsko gorje | G47: 47604 | H47: 1

Sheet Osnovni podaci
A1: Zelena trenzicija nacionalnih parkova i parkova prirode MF-2026-3-1
A2: PRIJAVNI OBRAZAC (1/3) - Osnovni podaci
A3: Naziv Projekta
A4: OSNOVNI PODACI PRIJAVITELJA (JAVNE USTANOVE) | G4: SJEDIŠTE PRIJAVITELJA
A5: Naziv prijavitelja | G5: Ulica
G6: Kućni broj | I6: Dodatak kućnom broju (ako je primjenjivo)
A7: OIB prijavitelja | G7: Pošta | I7: Mjesto
G8: Županija
A9: Banka | G9: IBAN
A10: ZAKONSKI ZASTUPNIK PRIJAVITELJA | G10: KONTAKT OSOBA/OSOBE IMENOVANE ZA PROVEDBU PROJEKTA
A11: Ime | G11: Ime
A12: Prezime | G12: Prezime
A13: OIB | G13: Telefon
A14: Funkcija | G14: Adresa e-pošte
A15: OSTALI ZAKONSKI ZASTUPNICI PRIJAVITELJA (ako je primjenjivo)
A16: NAPOMENA: POTPUNO ISPUNJEN PRIJAVNI OBRAZAC POTREBNO JE DOSTAVITI U FOND U .XLSX FORMATU!

Sheet Opis Projekta
A1: Zelena trenzicija nacionalnih parkova i parkova prirode MF-2026-3-1
A2: PRIJAVNI OBRAZAC (2/3) - Opis Projekta
A3: Naziv Projekta | C3: ='Osnovni podaci'!C3 -> 0
A4: Očekivano razdoblje provedbe projekta | H4: Početak provedbe projekta: | K4: =IF(sys!I5=1," ","!!izaberi početak provedbe projekta!!") -> !!izaberi početak provedbe projekta!!
H5: Završetak provedbe projekta: | K5: =IF(sys!I6=1," ","!!izaberi početak provedbe projekta!!") -> !!izaberi početak provedbe projekta!!
A6: OPIS PROJEKTA (ukratko opisati projektne aktivnosti koje se planiranaju provesti ovim projektom)
A9: LOKACIJA PROVEDBE PROJEKTNIH AKTIVNOSTI
A10: Ulica | G10: Kućni broj | I10: Dodatak kućnom broju (ako je primjenjivo)
A11: Pošta | D11: Mjesto | G11: Županija
A12: Naziv građevine na kojoj se provode projektne aktivnosti* | F12: Građevinska bruto površina zgrade [m2] | G12: Katastarska općina | H12: Katastarska čestica | I12: Vlasništvo građevine/zemljišta | J12: Dokaz da je građevina na koju se ugrađuje sustav OIE, izgrađena prema Zakonu o gradnji ili koja je prema navedenom ili posebnom zakonu s njom izjednačena (obavezno navesti naziv dokumenta, KLASU, URBROJ i datum izdavanja dokumenta)**
A13: 1.
A14: 2.
A15: 3.
A16: 4.
A17: 5.
A18: 6.
A19: 7.
A20: 8.
A21: 9.
A22: 10.
A23: Tehnički pokazatelji - prihvatljivih projektnih aktivnosti
A24: A1. Fotonaponska elektrana | D24: Planirana snaga FN modula [kWp] | F24: Godišnja proizvodnja električne energije [MWh/god] | G24: Vrsta fotonaponske elektrane | I24: Ušteda energije [kWh/god] | J24: Godišnje smanjenje emisije CO2 [tCO2/god] | K24: Učinkovitost fotonaponskog panela (ƞ) [%]
D25: 0 | F25: 0 | I25: 0 | J25: 0 | K25: 0
A26: Izrađivač glavnog projekta (projektantski ured) | G26: Tehnički dnevnik glavnog projekta | J26: Datum izrade glavnog projekta
A27: A2. Dizalice topline, sunčani toplinski kolektori, kotao na sječku/pelete | D27: Toplinska snaga [kW] | F27: Rashladna snaga [kW] | G27: Sezonski koeficijent učinkovitosti grijanja SCOP [kWh/kWh] - odnosi se samo na dizalice topline | I27: Ušteda energije [kWh/god] | J27: Godišnje smanjenje emisije CO2 [tCO2/god] | K27: Učinkovitost (ƞ) [%] - odnosi se samo na sunčane toplinske kolektore i kotlove na sječku/pelete
D28: 0 | F28: 0 | G28: 0 | I28: 0 | J28: 0 | K28: 0
A29: Izrađivač glavnog projekta (projektantski ured) | G29: Tehnički dnevnik glavnog projekta | J29: Datum izrade glavnog projekta
A30: A3. Električna vozila i plovila | D30: Količina vozila/plovila | G30: Količina vozila/ plovila
I31: =IF(D31="","<== Potrebno je odabrati kategoriju vozila i količinu samo u slučaju ako se provodi aktivnost A3.!!!", IF(G31<=0,"<== Potrebno je odabrati količinu vozila!!!","")) -> <== Potrebno je odabrati kategoriju vozila i količinu samo u slučaju ako se provodi aktivnost A3.!!!
I32: =IF(D32="","<== Potrebno je odabrati kategoriju vozila i količinu samo u slučaju ako se provodi aktivnost A3.!!!", IF(G32<=0,"<== Potrebno je odabrati količinu vozila!!!","")) -> <== Potrebno je odabrati kategoriju vozila i količinu samo u slučaju ako se provodi aktivnost A3.!!!
I33: =IF(D33="","<== Potrebno je odabrati kategoriju vozila i količinu samo u slučaju ako se provodi aktivnost A3.!!!", IF(G33<=0,"<== Potrebno je odabrati količinu vozila!!!","")) -> <== Potrebno je odabrati kategoriju vozila i količinu samo u slučaju ako se provodi aktivnost A3.!!!
I34: =IF(D34="","<== Potrebno je odabrati kategoriju vozila i količinu samo u slučaju ako se provodi aktivnost A3.!!!", IF(G34<=0,"<== Potrebno je odabrati količinu vozila!!!","")) -> <== Potrebno je odabrati kategoriju vozila i količinu samo u slučaju ako se provodi aktivnost A3.!!!
I35: =IF(D35="","<== Potrebno je odabrati kategoriju vozila i količinu samo u slučaju ako se provodi aktivnost A3.!!!", IF(G35<=0,"<== Potrebno je odabrati količinu vozila!!!","")) -> <== Potrebno je odabrati kategoriju vozila i količinu samo u slučaju ako se provodi aktivnost A3.!!!
A36: A4. Skladištenje električne energije (baterija), punionica za električna vozila/plovila & A5. Modernizacija elektroenergetske mreže | D36: Električna snaga punionice [kW] | G36: Korisni kapacitet baterije [kWh] | J36: Vlasništvo trafostanice
A38: Izrađivač glavnog projekta (projektantski ured) | G38: Tehnički dnevnik glavnog projekta | J38: Datum izrade glavnog projekta
A40: NAPOMENA: POTPUNO ISPUNJEN PRIJAVNI OBRAZAC POTREBNO JE DOSTAVITI U FOND U .XLSX FORMATU! Obavezno odabrati vrstu ulaganja i postojanje EU ETS dozvole za postrojenje na kojem se provodi projekt! * Preporuka je kod većeg broja građevina na kojima se provodi projekt priložiti skicu ( prikaz, fotografiju, geodetski snimak i sl. ) na kojoj su građevine označene rednim brojevima iz ovog prijavnog obrasca! * * Obavezno je potrebno navesti naziv, klasu, urbroj i datum izdavanja dokumenta kojim se dokazuje da je građevina na koju se ugrađuje sustav OIE, izgrađena prema Zakonu o gradnji ili koja je prema navedenom ili posebnom zakonu s njom izjednačena - odnosi se na projekte izgradnje integriranih fotonaponskih elektrana te sustava za proizvodnju toplinske ili rashladne energije korištenjem obnovljivih izvora energije!

Sheet Troškovnik provedbe Projekta
A1: Zelena trenzicija nacionalnih parkova i parkova prirode MF-2026-3-1
A2: PRIJAVNI OBRAZAC (3/3) - Troškovnik provedbe Projekta
A3: Naziv Projekta | C3: ='Osnovni podaci'!C3 -> 0
A4: TROŠKOVI PROVEDBE PROJEKTNIH AKTIVNOSTI - (popis prihvatljivih troškova prema točki 2.4 Poziva)
A5: Naziv troškova | I5: Iznos troška [EUR]* | J5: Intenzitet potpore [%] | K5: Iznos zatraženih sredstava potpore [EUR] | O5: =I6+I9 -> 0
A6: A1. Izgradnja sustava za proizvodnju električne energije korištenjem obnovljivih izvora energije za vlastite potrebe | I6: 0 | J6: =K6/I6 -> #DIV/0! | K6: =P6*O6 -> 0 | O6: 1 | P6: =I6 -> 0
A7: A2. Izgradnja sustava za proizvodnju toplinske ili rashladne energije korištenjem obnovljivih izvora energije | I7: 0 | J7: =K7/I7 -> #DIV/0! | K7: =P7*O7 -> 0 | O7: 1 | P7: =I7 -> 0
A8: A3. Energetska učinkovitost u prometu (električna mobilnost)* | I8: 0 | J8: =K8/I8 -> #DIV/0! | K8: =P8*O8 -> 0 | O8: 1 | P8: =I8 -> 0
A9: A4. Izgradnja sustava za skladištenje električne energije (baterije) i punjenja električnih vozila | I9: 0 | J9: =K9/I9 -> #DIV/0! | K9: =P9*O9 -> 0 | O9: 1 | P9: =I9 -> 0
A10: A5. Modernizacija elektroenergetske mreže | I10: 0 | J10: =K10/I10 -> #DIV/0! | K10: =P10*O10 -> 0 | O10: 1 | P10: =I10 -> 0
A11: A6. Nadzora radova (projektantski, stručni nadzor i koordinator znr) | I11: 0 | J11: =K11/I11 -> #DIV/0! | K11: =P11*O11 -> 0 | O11: 1 | P11: =I11 -> 0
A12: A7. Izrada projektno-tehničke dokumentacije | I12: 0 | J12: =K12/I12 -> #DIV/0! | K12: =P12*O12 -> 0 | O12: 1 | P12: =I12 -> 0
A13: A8. Upravljanje projektom | I13: 0 | J13: =K13/I13 -> #DIV/0! | K13: =P13*O13 -> 0 | O13: 1 | P13: =I13 -> 0
A14: A9. Neprihvatljivi troškovi*** | I14: 0 | J14: =K14/I14 -> #DIV/0! | K14: =P14*O14 -> 0 | O14: 1
A15: UKUPNA VRIJEDNOST bez PDV-a [EUR]: | I15: =SUM(I6:I13) -> 0 | J15: =K15/I15 -> #DIV/0! | K15: =SUM(K6:L13) -> 0
A16: UKUPNA VRIJEDNOST ULAGANJA sa PDV-om [EUR]: | I16: =SUM(I6:I14) -> 0 | J16: =IF(AND(K15>0,K15<10000),"OPREZ! Iznos zatraženih sredstava je manji od 10.000,00 EUR!", IF(AND(K15>0,K15>7500000),"OPREZ! Iznos zatraženih sredstava je veći od 7.500.000,00 EUR!",""))
A17: NAPOMENA: POTPUNO ISPUNJEN PRIJAVNI OBRAZAC POTREBNO JE DOSTAVITI U FOND .XLSX FORMATU! POREZ NA DODANU VRIJEDNOST (PDV) JE NEPRIHVATLJIV TROŠAK!!! *Potrebno je navesti iznose bez PDV-a za troškove od A1 do A8! **Potrebno je iznos zatraženih sredstava prikazati na temelju iznosa informativne ponude ** Potrebno je u Napomeni navesti na što se odnose eventualni neprihvatljivi troškovi (svi troškovi koji potrebni za provedbu projekta ali ne spadaju u popis prihvatljivih troškova prema točki 2.4 Poziva te iznos PDV-a)
