Workbook
Name ŽUPANIJA: [1]Nevidljivo!$H$5:$H$25

Sheet sys
A1: Mikro i malo poduzeće | B1: I. Zagrebačka županija | C1: ADDIKO BANK d.d. Zagreb | D1: HR05 Grad Zagreb | E1: Panonska Hrvatska (Bjelovarsko-bilogorska županija, Virovitička-podravska županija, Požeška-slavonska županija, Brodsko-posavska županija, Osječka-baranjska županija, Vukovarska-srijemska županija, Karlovačka županija, Sisačka-moslavačka županija) | F1: Prijavitelj je vlasnik | G1: nakon potpisa Ugovora | H1: 1 | J1: A1 Fotonaponska elektrana | L1: A1. Izgradnja fotonaponske elektrane
A2: Srednje poduzeće | B2: II. Krapinsko-zagorska županija | C2: AGRAM BANKA d.d. Zagreb | D2: HR02 Panonska Hrvatska | E2: Jadranska Hrvatska (Primorsko-goranska županija, Ličko-senjska županija, Zadarska županija, Šibenska-kninska županija, Splitsko-dalmatinska županija, Istarska županija, Dubrovačko-neretvanska županija) | F2: Prijavitelj je suvlasnik | G2: 46266 | H2: 1 | J2: A2 Elektrana na biomasu | L2: A2. Izgradnja elektrane na biomasu
A3: Veliko poduzeće | B3: III. Sisačko-moslavačka županija | C3: BANKA KOVANICA d.d. Varaždin | D3: HR03 Jadranska Hrvatska | E3: Sjeverna Hrvatska (Međimurska županija, Varaždinska županija, Koprivničkokr ževačka županija, Krapinsko-zagorska županija i Zagrebačka županija | F3: Prijavitelj nije vlasnik / Prijavitelj je korisnik | G3: 46296 | H3: 1 | J3: A3 Bioplinska elektrana | L3: A3. Izgradnja elektrane na bioplin
B4: IV. Karlovačka županija | C4: BKS BANK AG, Glavna podružnica Hrvatska | D4: HR06 Sjeverna Hrvatska | G4: 46327 | H4: 1
A5: {=IF(OR('Osnovni podaci'!C8:D8="Mikro i malo poduzeće",'Osnovni podaci'!C8:D8="Srednje poduzeće",'Osnovni podaci'!C8:D8="Veliko poduzeće"),1,0)} -> 0 | B5: V. Varaždinska županija | C5: CROATIA BANKA d.d. Zagreb | G5: 46357 | H5: 1 | I5: =IF('Opis Projekta'!J4="","",VLOOKUP('Opis Projekta'!J4,sys!G1:H57,2,))
B6: VI. Koprivničko-križevačka županija | C6: ERSTE &STEIERMÄRKISCHE BANK d.d. Rijeka | G6: 46388 | H6: 1 | I6: =IF('Opis Projekta'!J5="","",VLOOKUP('Opis Projekta'!J5,sys!G2:H58,2,)) | L6: A01.1 Uzgoj jednogodišnjih usjeva
B7: VII. Bjelovarsko-bilogorska županija | C7: HRVATSKA BANKA ZA OBNOVU I RAZVITAK Zagreb | D7: Integrirana FNE | E7: DA | F7: Poljoprivrednik (poljoprivredna djelatnost obuhvaća bilinogojstvo, stočarstvo i s njima povezane uslužne djelatnosti, u skladu sa skupinama 01.1, 01.2, 01.3, 01.4, 01.5 i 01.6 Nacionalne klasifikacije djelatnosti 2025. – NKD 2025.) upisan u Upisnik poljoprivrednika koji obavlja poljoprivrednu djelatnost sukladno Zakonu o poljoprivredi te koji obavlja djelatnost iz područja A01 Biljna i stočarska proizvodnja, lovstvo i uslužne djelatnosti povezane s njima određenog prema NKD 2025) | G7: 46419 | H7: 1 | L7: A01.2 Uzgoj višegodišnjih usjeva
A8: Odabrati vrijednost iz padajućeg izbornika | B8: VIII. Primorsko-goranska županija | C8: HRVATSKA NARODNA BANKA | D8: Neintegrirana FNE | E8: NE | F8: Fizičke i pravne osobe registrirane za preradu poljoprivrednih proizvoda koje imaju registriranu barem jednu djelatnost iz područja određene prema NKD 2025: C10 Proizvodnja prehrambenih proizvoda i to razred i podrazred C10.1,C10.3, C10.4, C10.51, C.10.6 i C10.9 ili C11 Proizvodnja pića i to to razred i podrazred C11.02 i C11.03 | G8: 46447 | H8: 1 | L8: A01.3 Uzgoj sadnog materijala i ukrasnog bilja
B9: IX. Ličko-senjska županija | C9: HRVATSKA POŠTANSKA BANKA d.d. Zagreb | D9: Integrirana&neintegrirana FNE | G9: 46478 | H9: 1 | L9: A01.4 Uzgoj životinja
B10: X. Virovitičko-podravska županija | C10: IMEX BANKA d.d. Split | G10: 46508 | H10: 1 | L10: A01.5 Mješovita poljoprivreda
A11: 2021. | B11: XI. Požeško-slavonska županija | C11: ISTARSKA KREDITNA BANKA UMAG d.d. Umag | G11: 46539 | H11: 1 | L11: A01.6 Pomoćne djelatnosti u poljoprivredi i djelatnosti koje se obavljaju nakon žetve usjeva
A12: 2022. | B12: XII. Brodsko-posavska županija | C12: J&T banka d.d. Varaždin | G12: 46569 | H12: 1 | L12: C10.1 Prerada i konzerviranje mesa i proizvodnja mesnih proizvoda
A13: 2023. | B13: XIII. Zadarska županija | C13: KARLOVAČKA BANKA d.d. Karlovac | G13: 46600 | H13: 1 | L13: C10.3 Prerada i konzerviranje voća i povrća
A14: 2024. | B14: XIV. Osječko-baranjska županija | C14: KENTBANK d.d. Zagreb | G14: 46631 | H14: 1 | L14: C10.4 Proizvodnja biljnih i životinjskih ulja i masti
A15: 2025. | B15: XV. Šibensko-kninska županija | C15: NOVA HRVATSKA BANKA d.d., Zagreb | G15: 46661 | H15: 1 | L15: C10.51 Proizvodnja mliječnih proizvoda
B16: XVI. Vukovarsko-srijemska županija | C16: OTP BANKA d.d. Split | G16: 46692 | H16: 1 | L16: C10.6 Proizvodnja mlinskih proizvoda, škroba i škrobnih proizvoda
B17: XVII. Splitsko-dalmatinska županija | C17: PARTNER BANKA d.d. Zagreb | G17: 46722 | H17: 1 | L17: C10.9 Proizvodnja pripremljene hrane za životinje
B18: XVIII. Istarska županija | C18: PODRAVSKA BANKA d.d. Koprivnica | G18: 46753 | H18: 1 | L18: C11.02 Proizvodnja vina od grožđa
B19: XIX. Dubrovačko-neretvanska županija | C19: PRIVREDNA BANKA ZAGREB d.d. Zagreb | G19: 46784 | H19: 1 | L19: C11.03 Proizvodnja jabukovače i ostalih fermentiranih voćnih pića
B20: XX. Međimurska županija | C20: RAIFFEISENBANK AUSTRIA d.d. Zagreb | G20: 46813 | H20: 1
B21: XXI. Grad Zagreb | C21: SAMOBORSKA BANKA d.d. Samobor | G21: 46844 | H21: 1
C22: SLATINSKA BANKA d.d. Slatina | G22: 46874 | H22: 1
C23: ZAGREBAČKA BANKA d.d. Zagreb | G23: 46905 | H23: 1
G24: 46935 | H24: 1
G25: 46966 | H25: 1
G26: 46997 | H26: 1
G27: 47027 | H27: 1
C28: =IF(#REF!="Provedbom projekta je planirana sljedeća vrsta FN elektrane",1,0) -> #REF! | G28: 47058 | H28: 1
G29: 47088 | H29: 1
G30: 47119 | H30: 1
G31: 47150 | H31: 1
G32: 47178 | H32: 1
G33: 47209 | H33: 1
G34: 47239 | H34: 1
G35: 47270 | H35: 1
G36: 47300 | H36: 1
G37: 47331 | H37: 1
G38: 47362 | H38: 1
G39: 47392 | H39: 1
G40: 47423 | H40: 1
... G57: 47453 | H57: 1

Sheet Osnovni podaci
A1: Korištenje obnovljivih izvora energije u sektoru primarne poljoprivredne proizvodnje i prerade poljoprivrednih proizvoda MF-2026-6-1
A2: PRIJAVNI OBRAZAC (1/2) - Osnovni podaci
A3: Naziv Projekta
A4: OSNOVNI PODACI PRIJAVITELJA | G4: SJEDIŠTE PRIJAVITELJA
A5: Naziv prijavitelja | G5: Ulica
G6: Kućni broj | I6: Dodatak kućnom broju (ako je primjenjivo)
A7: OIB prijavitelja | G7: Pošta | I7: Mjesto
A8: Veličina poduzeća | E8: =IF(C8="Mikro i malo poduzeće"," ", IF(C8="Srednje poduzeće"," ", IF(C8="Veliko poduzeće"," ","!!odaberite veličinu poduzeća!!"))) -> !!odaberite veličinu poduzeća!! | G8: Županija
A9: FINANCIJSKI PODACI ZA 2025. GODINU
A10: Banka | G10: IBAN
A11: Broj zaposlenih osoba | D11: Poslovni prihod [EUR] | G11: Poslovni rashod [EUR] | I11: Amortizacija [EUR] | K11: EBITDA | L11: =F11-H11+J11 -> 0
A12: ZAKONSKI ZASTUPNIK PRIJAVITELJA | G12: KONTAKT OSOBA/OSOBE IMENOVANE ZA PROVEDBU PROJEKTA
A13: Ime | G13: Ime
A14: Prezime | G14: Prezime
A15: OIB | G15: Telefon
A16: Funkcija | G16: Adresa e-pošte
A17: OSTALI ZAKONSKI ZASTUPNICI PRIJAVITELJA (ako je primjenjivo)
A18: Ime | G18: Ime
A19: Prezime | G19: Prezime
A20: OIB | G20: OIB
A21: Funkcija | G21: Funkcija
A22: OSTALI ZAKONSKI ZASTUPNICI PRIJAVITELJA (ako je primjenjivo)
A23: Ime | G23: Ime
A24: Prezime | G24: Prezime
A25: OIB | G25: OIB
A26: Funkcija | G26: Funkcija
A27: OSTALI ZAKONSKI ZASTUPNICI PRIJAVITELJA (ako je primjenjivo)
A28: Ime | G28: Ime
A29: Prezime | G29: Prezime
A30: OIB | G30: OIB
A31: Funkcija | G31: Funkcija
A32: NAPOMENA: POTPUNO ISPUNJEN PRIJAVNI OBRAZAC POTREBNO JE DOSTAVITI FONDU U .XLSX FORMATU! OBAVEZNO ODABRATI VELIČINU PODUZEĆA!

Sheet Opis Projekta
A1: Korištenje obnovljivih izvora energije u sektoru primarne poljoprivredne proizvodnje i prerade poljoprivrednih proizvoda MF-2026-6-1
A2: PRIJAVNI OBRAZAC (2/2) - Opis Projekta
A3: Naziv Projekta | C3: ='Osnovni podaci'!C3 -> 0
A4: Očekivano razdoblje provedbe projekta | H4: Početak provedbe projekta: | K4: =IF(sys!I5=1," ","!!izaberi početak provedbe projekta!!") -> !!izaberi početak provedbe projekta!!
H5: Završetak provedbe projekta: | K5: =IF(sys!I6=1," ","!!izaberi završetak provedbe projekta!!") -> !!izaberi završetak provedbe projekta!!
A6: Provedbom projekta korist od dodjeljenih bespovratnih sredstava će ostvariti prihvatljiva djelatnost Prijavitelja određena točkom 2.1. Poziva iz područja određene prema Nacionalnoj klasifikaciji djelatnosti 2025. – NKD 2025. (potrebno je odabrati barem jednu djelatnost, a slučaju više od prihvatljivih djealtnosti na kojima se provodi projekt, potrebno ih je sve navesti u opisu projekta)
A10: OPIS PROJEKTA (ukratko opisati projektne aktivnosti koje se planiraju provesti ovim projektom, navesti sve prihvatljive djelatnosti određene točkom 2.1 Poziva koje će ostvariti korist provedbom projekta, navesti sva OMM na kojima se planira provoditi projekt i sl.)
A13: LOKACIJA PROVEDBE PROJEKTNIH AKTIVNOSTI - sumarni podaci
A14: Ulica | G14: Kućni broj | I14: Dodatak kućnom broju (ako je primjenjivo)
A15: Pošta | D15: Mjesto | G15: Županija
A16: Podaci o obračunskom mjernom mjestu prema odobrenoj elektroenergetskoj suglasnosti (EES) | E16: Šifra obračunskog mjernog mjesta | G16: Napon OMM [kV] | H16: Priključna snaga u smjeru preuzimanja iz mreže [kW] | J16: Priključna snaga u smjeru predaje u mrežu [kW] | K16: Broj elektroenergetske suglasnosti (EES) | L16: OIB vlasnika OMM
A18: Naziv građevine na kojoj se provode projektne aktivnosti* | F18: Građevinska bruto površina zgrade [m2], ako je primjenjivo | G18: Katastarska općina | H18: Katastarska čestica | I18: Vlasništvo građevine/zemljišta | J18: Dokaz da je građevina na koju se ugrađuje fotonaponska elektrana izgrađena prema Zakonu o gradnji ili koja je prema navedenom ili posebnom zakonu s njom izjednačena (obavezno navesti naziv dokumenta, KLASU, URBROJ i datum izdavanja dokumenta)**, ako je primjenjivo
A19: 1.
A20: 2.
A21: 3.
A22: 4.
A23: 5.
A24: 6.
A25: 7.
A26: 8.
A27: 9.
A28: 10.
A29: 11.
A30: 12.
... A33: 15.
A34: Izrađivač glavnog projekta (projektantski ured) | G34: Tehnički dnevnik glavnog projekta | J34: Datum izrade glavnog projekta
A35: Tehnički pokazatelji fotonaponske elektrane - podaci trebaju obuhvatiti i podatke vezano za postojeću fotonaponsku elektranu na lokaciji provedbe projekta (ako je primjenjivo)
A36: Izvor podataka - Glavni projekt - U slučaju postojeće FNE potrebno je za istu navesti tražene podatke!!! | D36: Instalirana snaga FN modula [kWp] | F36: Proizvedena električna energija iz FN elektrane [MWh/god] | G36: Instalirani kapacitet skladištenja električne energije [kWh] | I36: Isporučena godišnja električna energija - Edel [MWh/god] | K36: Emisije CO2 [tCO2/god]
A37: Prije provedbe projekta: | D37: 0 | F37: 0 | G37: 0 | I37: 0 | K37: 0
A38: Nakon provedbe projekta: | D38: 0 | F38: 0 | G38: 0 | I38: 0 | K38: 0
A39: Promjena/razlika: | D39: =D38-D37 -> 0 | F39: =F38-F37 -> 0 | G39: =G38-G37 -> 0 | I39: =I37-I38 -> 0 | K39: =K37-K38 -> 0
A40: Smanjenje (ušteda) (%): | I40: =I39/I37 -> #DIV/0! | K40: =K39/K37 -> #DIV/0!
A41: Provedbom projekta je planirana izgradnja sljedeće vrste fotonaponske elektrane: | I41: Instalirani kapacitet skladištenja električne energije [kWh]: | L41: 0
A42: Očekivani ukupni pokazatelji rezultata provedbe projekta | F42: Dodatna instalirana snaga za proizvodnju električne energije iz obnovljivih izvora [MW] | I42: Očekivana kumulativna ušteda isporučene energije do kraja životnog vijeka ulaganja [MWh] | K42: Očekivana kumulativna ušteda emisija stakleničkih plinova do kraja životnog vijeka ulaganja [tCO2]
F43: =D39/1000 -> 0 | I43: =I39*15.451 -> 0 | K43: =K39*15.451 -> 0
A44: TROŠKOVI PROVEDBE PROJEKTNIH AKTIVNOSTI - (popis prihvatljivih troškova prema točki 2.4 Poziva)
A45: Naziv troškova | I45: Iznos troška [EUR] | J45: Intenzitet potpore [%] | K45: =IF(sys!A5=1,"Iznos zatraženih sredstava potpore [EUR]***","!!odaberite veličinu poduzeća!!") -> !!odaberite veličinu poduzeća!! | O45: =I47+I48 -> 0
A46: A1 Fotonaponska elektrana | I46: 0 | J46: =K46/I46 -> #DIV/0! | K46: =P46*O46 -> 0 | O46: =IF('Osnovni podaci'!$C$8="Mikro i malo poduzeće",0.65, IF('Osnovni podaci'!$C$8="Srednje poduzeće",0.55, IF('Osnovni podaci'!$C$8="Veliko poduzeće",0.45,))) -> 0 | P46: =I46 -> 0
A47: A2. Postavljanje sustava za skladištenje električne energije (baterije) | F47: =IF(A47="A2. Postavljanje sustava za skladištenje električne energije (baterije)","", IF(A47="A2. Troškovi izrade projektno-tehničke dokumentacije (glavni projekt)","","Odaberite vrstu prijavitelja u kartici Osnovni podaci!!!")) | I47: 0 | J47: =K47/I47 -> #DIV/0! | K47: =P47*O47 -> 0 | O47: =IF('Osnovni podaci'!$C$8="Mikro i malo poduzeće",0.5, IF('Osnovni podaci'!$C$8="Srednje poduzeće",0.4, IF('Osnovni podaci'!$C$8="Veliko poduzeće",0.3,))) -> 0 | P47: =I47 -> 0
A48: A3. Nadzor radova (projektantski, stručni nadzor i koordinator znr) | I48: 0 | J48: =K48/I48 -> #DIV/0! | K48: =P48*O48 -> 0 | O48: =IF('Osnovni podaci'!$C$8="Mikro i malo poduzeće",0.65, IF('Osnovni podaci'!$C$8="Srednje poduzeće",0.55, IF('Osnovni podaci'!$C$8="Veliko poduzeće",0.45,))) -> 0 | P48: =I48 -> 0
A49: A4. Usluga upravljanja i/ili informiranje i vidljivost | I49: 0 | J49: =K49/I49 -> #DIV/0! | K49: =P49*O49 -> 0 | O49: =IF('Osnovni podaci'!$C$8="Mikro i malo poduzeće",0.65, IF('Osnovni podaci'!$C$8="Srednje poduzeće",0.55, IF('Osnovni podaci'!$C$8="Veliko poduzeće",0.45,))) -> 0 | P49: =I49 -> 0
A50: Neprihvatljivi troškovi navedeni od strane Prijavitelja**** | I50: 0 | J50: =K50/I50 -> #DIV/0! | K50: =P50*O50 -> 0
A51: UKUPNA PRIHVATLJIVA VRIJEDNOST [EUR]: | I51: =SUM(I46:I49) -> 0 | J51: =K51/I51 -> #DIV/0! | K51: =SUM(K46:L50) -> 0
A52: UKUPNA VRIJEDNOST ULAGANJA [EUR]: | I52: =SUM(I46:I50) -> 0
A53: NAPOMENA: POTPUNO ISPUNJEN PRIJAVNI OBRAZAC POTREBNO JE DOSTAVITI FONDU U .XLSX FORMATU! * Preporuka je kod većeg broja građevina na kojima se provodi projekt priložiti skicu ( prikaz, fotografiju, geodetski snimak i sl. ) na kojoj su građevine označene rednim brojevima iz ovog prijavnog obrasca! ** Obavezno je potrebno navesti naziv, klasu, urbroj i datum izdavanja dokumenta kojim se dokazuje da je građevina na koju se ugrađuje sustav OIE, izgrađena prema Zakonu o gradnji ili koja je prema navedenom ili posebnom zakonu s njom izjednačena - odnosi se na projekte izgradnje integriranih fotonaponskih elektrana! POREZ NA DODANU VRIJEDNOST (PDV) JE NEPRIHVATLJIV TROŠAK *** Iznos zatraženih sredstava je automatizirani informativni izračun prema veličini poduzeća te ako se želi zatražiti manji iznos bespovratnih sredstava od najviše mogućeg za tu mjeru potrebno je manji iznos bespovratnih sredstava upisati ručno u ćeliju nakon automatiziranog izračuna. **** Potrebno je u Napomeni navesti na što se odnose eventualni neprihvatljivi troškovi (svi troškovi koji su potrebni za provedbu projekta ali nisu prihvatljivi troškovi prema točki 2.4 Poziva)
